BEGIN:VCALENDAR
VERSION:2.0
PRODID:-//The Hope - ECPv6.15.20//NONSGML v1.0//EN
CALSCALE:GREGORIAN
METHOD:PUBLISH
X-WR-CALNAME:The Hope
X-ORIGINAL-URL:https://thehope.co
X-WR-CALDESC:Events for The Hope
REFRESH-INTERVAL;VALUE=DURATION:PT1H
X-Robots-Tag:noindex
X-PUBLISHED-TTL:PT1H
BEGIN:VTIMEZONE
TZID:Asia/Shanghai
BEGIN:STANDARD
TZOFFSETFROM:+0800
TZOFFSETTO:+0800
TZNAME:CST
DTSTART:20250101T000000
END:STANDARD
END:VTIMEZONE
BEGIN:VTIMEZONE
TZID:UTC
BEGIN:STANDARD
TZOFFSETFROM:+0000
TZOFFSETTO:+0000
TZNAME:UTC
DTSTART:20250101T000000
END:STANDARD
END:VTIMEZONE
BEGIN:VTIMEZONE
TZID:Asia/Taipei
BEGIN:STANDARD
TZOFFSETFROM:+0800
TZOFFSETTO:+0800
TZNAME:CST
DTSTART:20250101T000000
END:STANDARD
END:VTIMEZONE
BEGIN:VEVENT
DTSTART;TZID=Asia/Shanghai:20260301T160000
DTEND;TZID=Asia/Shanghai:20260301T173000
DTSTAMP:20260421T213858
CREATED:20241201T040025Z
LAST-MODIFIED:20260205T033010Z
UID:268835-1772380800-1772386200@thehope.co
SUMMARY:服事夥伴招募市集
DESCRIPTION:一起捲起袖子吧！在這裏你可以了解到 The Hope 的服事文化，認識服事團隊，我們非常期待與你一起建造神的家。 \n現在報名
URL:https://thehope.co/event/volunteer-fair/
LOCATION:The Hope\, 大安區光復南路72巷71號\, 台北市\, 106
CATEGORIES:Taipei Campus
ATTACH;FMTTYPE=image/jpeg:https://thehope.co/wp-content/uploads/2023/11/web_volunteer-fair.jpg
END:VEVENT
BEGIN:VEVENT
DTSTART;TZID=Asia/Shanghai:20260307T193000
DTEND;TZID=Asia/Shanghai:20260314T210000
DTSTAMP:20260421T213858
CREATED:20240104T045251Z
LAST-MODIFIED:20260306T041015Z
UID:269228-1772911800-1773522000@thehope.co
SUMMARY:門徒的旅程
DESCRIPTION:THE HOPE 三階段門訓裝備課程\n我們鼓勵每一位 THE HOPE 家人都參與此裝備課程，透過五週的課程，你將會認識到神是一位怎麼樣的神、我們如何與神建立關係、一個真實跟隨神的門徒會有的生命樣式以及我們如何將影響力帶進我們所在之地，歡迎你一起加入這個旅程。 \n\n課程資訊\n\n\n\n\n\n\n上課日期：3/7\, 3/14\, 3/21\, 3/28\n\n\n上課時間：週六 7:30PM-9PM\n\n\n上課地點：The Hope – Taipei Campus\n\n\n\n\n\n\n\n報名 \n\nFAQ\n若有任何問題，請來信詢問equip.tpe@thehope.co
URL:https://thehope.co/event/disciple1/
CATEGORIES:Taipei Campus
ATTACH;FMTTYPE=image/png:https://thehope.co/wp-content/uploads/2024/01/門徒的旅程_方形.png
END:VEVENT
BEGIN:VEVENT
DTSTART;TZID=Asia/Shanghai:20260308T160000
DTEND;TZID=Asia/Shanghai:20260308T180000
DTSTAMP:20260421T213858
CREATED:20260306T090731Z
LAST-MODIFIED:20260306T090731Z
UID:271183-1772985600-1772992800@thehope.co
SUMMARY:小組長訓練課程
DESCRIPTION:THE HOPE 小組長訓練課程\n如果你對陪伴生命成長充滿熱情，這就是為你預備的！邀請你，讓我們一起成為他人生命中真實的祝福！ \n\n期待在課程中，我們一起：\n\n\n\n以神為中心，倒空自己，謙卑學習\n\n\n互相尊榮，尊敬權柄\n\n\n誠實及真實敞開，互相關顧\n\n\n持續參與，負責到底\n\n\n願意及順服的心，為彼此多走一哩路\n\n\n\n\n\n課程資訊\n\n\n\n上課日期：3/8、3/22、3/29 \n\n\n上課時間：週日 4:00-6:00PM\n\n\n上課地點：副堂\n\n\n\n\n\n\n報名 \n\n若有任何問題，請來信詢問belong.tpe@thehope.co
URL:https://thehope.co/event/%e5%b0%8f%e7%b5%84%e9%95%b7%e8%a8%93%e7%b7%b4%e8%aa%b2%e7%a8%8b/
CATEGORIES:Taipei Campus
ATTACH;FMTTYPE=image/png:https://thehope.co/wp-content/uploads/2026/03/小組長訓練_方形.png
END:VEVENT
BEGIN:VEVENT
DTSTART;TZID=Asia/Shanghai:20260314T100000
DTEND;TZID=Asia/Shanghai:20260314T113000
DTSTAMP:20260421T213858
CREATED:20250808T031251Z
LAST-MODIFIED:20260312T112512Z
UID:270866-1773482400-1773487800@thehope.co
SUMMARY:Hope Kids 親子日
DESCRIPTION:你是否也曾有過這樣的時候：明明很用心教導孩子，卻仍然不確定是否走在對的方向上？也許我們都在學習一件事，教養不只是方法，而是我們用什麼作為生命的基準。 \n邀請所有 Hope Kids 的爸爸、媽媽與主要照顧者一起參與 3/14 Kids 親子日，這次分享將從教育的角度切入，帶我們重新思考，當神的話語成為根基，教養不再只是修正行為，而是引導孩子走在真理與生命中。 \n📅 時間｜3/14 10AM – 11:30AM（10AM 開放報到） \n📍 地點｜The Hope 台中－副堂（2F） \n報名連結：https://hopekidsfamilyday.paperform.co/
URL:https://thehope.co/event/hope-kids-%e8%a6%aa%e5%ad%90%e6%97%a5/
LOCATION:The Hope 台中分部\, 西屯區文心路三段 298 號\, 台中市\, 407
CATEGORIES:Taichung Campus
ATTACH;FMTTYPE=image/png:https://thehope.co/wp-content/uploads/2025/08/Hope-Kids-親子日.png
END:VEVENT
BEGIN:VEVENT
DTSTART;TZID=Asia/Shanghai:20260321T100000
DTEND;TZID=Asia/Shanghai:20260328T120000
DTSTAMP:20260421T213858
CREATED:20240104T081540Z
LAST-MODIFIED:20260312T111757Z
UID:269232-1774087200-1774699200@thehope.co
SUMMARY:線上門徒的旅程
DESCRIPTION:THE HOPE 三階段門訓裝備課程\n我們鼓勵每一位 THE HOPE 家人都參與此裝備課程，透過三階段的課程，你將會認識到神是一位怎麼樣的神、我們如何與神建立關係、一個真實跟隨神的門徒會有的生命樣式以及我們如何將影響力帶進我們所在之地，歡迎你一起加入這個旅程。 \n\n課程資訊\n\n\n\n\n\n\n上課日期：3/21\, 3/28\, 4/1\, 4/11\n\n\n上課時間：週六 10AM-12PM\n\n\n上課地點：Online\n\n\n\n\n\n\n報名 \n\nFAQ\n若有任何問題，請來信詢問 equip.online@thehope.co
URL:https://thehope.co/event/ondisciple1/
CATEGORIES:Online
ATTACH;FMTTYPE=image/png:https://thehope.co/wp-content/uploads/2024/01/門徒的旅程_方形.png
END:VEVENT
BEGIN:VEVENT
DTSTART;TZID=Asia/Shanghai:20260325T190000
DTEND;TZID=Asia/Shanghai:20260325T210000
DTSTAMP:20260421T213858
CREATED:20260319T061805Z
LAST-MODIFIED:20260319T061805Z
UID:271229-1774465200-1774472400@thehope.co
SUMMARY:復活節沉浸式敬拜
DESCRIPTION:耶穌的故事，不再只是聽說，這天，讓我們一起靜下心，走入這場沉浸式敬拜，帶領你親身走進耶穌的受難過程，感受祂的愛與犧牲，並邀請你在這段內心的旅程中反思自己與祂故事的連結。 \n日期：3/25\n時間：7-9PM\n地點：The Hope 台中分部\n報名連結：2026 復活節沈浸式敬拜
URL:https://thehope.co/event/%e5%be%a9%e6%b4%bb%e7%af%80%e6%b2%89%e6%b5%b8%e5%bc%8f%e6%95%ac%e6%8b%9c/
LOCATION:The Hope 台中分部\, 西屯區文心路三段 298 號\, 台中市\, 407
CATEGORIES:Taichung Campus
ATTACH;FMTTYPE=image/png:https://thehope.co/wp-content/uploads/2026/03/一起敬拜_活動圖卡_台中.png
END:VEVENT
BEGIN:VEVENT
DTSTART;TZID=UTC:20260329T155000
DTEND;TZID=UTC:20260329T170000
DTSTAMP:20260421T213858
CREATED:20250305T164531Z
LAST-MODIFIED:20260312T113441Z
UID:264770-1774799400-1774803600@thehope.co
SUMMARY:The Hope College 招生說明會
DESCRIPTION:想更了解 The Hope College？歡迎參加招生說明會！我們會介紹學院核心價值，分享成長故事，並開放現場 Q&A！不論你在哪裡，給自己一個機會，踏上改變生命的旅程 !
URL:https://thehope.co/event/the-hope-college-admissionbriefing/
CATEGORIES:College
ATTACH;FMTTYPE=image/jpeg:https://thehope.co/wp-content/uploads/2025/03/THC-招生說明會.jpg
END:VEVENT
BEGIN:VEVENT
DTSTART;TZID=Asia/Taipei:20260331T193000
DTEND;TZID=Asia/Taipei:20260331T210000
DTSTAMP:20260421T213858
CREATED:20260319T063128Z
LAST-MODIFIED:20260319T080112Z
UID:271232-1774985400-1774990800@thehope.co
SUMMARY:線上一起敬拜
DESCRIPTION:3/31，讓我們在復活節前夕，把心中的懊悔帶到神面前，\n透過敬拜，讓生命再次回轉，走向祂。 \n日期：3／31\n時間：7:30-9PM\n參加方式：Hope Nation Facebook 社團
URL:https://thehope.co/event/%e7%b7%9a%e4%b8%8a%e4%b8%80%e8%b5%b7%e6%95%ac%e6%8b%9c/
CATEGORIES:Online
ATTACH;FMTTYPE=image/png:https://thehope.co/wp-content/uploads/2026/03/一起敬拜_活動圖卡_台中.png
END:VEVENT
END:VCALENDAR