BEGIN:VCALENDAR
VERSION:2.0
PRODID:-//The Hope - ECPv6.15.20//NONSGML v1.0//EN
CALSCALE:GREGORIAN
METHOD:PUBLISH
X-WR-CALNAME:The Hope
X-ORIGINAL-URL:https://thehope.co
X-WR-CALDESC:Events for The Hope
REFRESH-INTERVAL;VALUE=DURATION:PT1H
X-Robots-Tag:noindex
X-PUBLISHED-TTL:PT1H
BEGIN:VTIMEZONE
TZID:Asia/Shanghai
BEGIN:STANDARD
TZOFFSETFROM:+0800
TZOFFSETTO:+0800
TZNAME:CST
DTSTART:20220101T000000
END:STANDARD
END:VTIMEZONE
BEGIN:VTIMEZONE
TZID:UTC
BEGIN:STANDARD
TZOFFSETFROM:+0000
TZOFFSETTO:+0000
TZNAME:UTC
DTSTART:20220101T000000
END:STANDARD
END:VTIMEZONE
BEGIN:VEVENT
DTSTART;TZID=Asia/Shanghai:20240420T193000
DTEND;TZID=Asia/Shanghai:20240420T193000
DTSTAMP:20260423T080128
CREATED:20240316T031330Z
LAST-MODIFIED:20240316T070734Z
UID:269376-1713641400-1713641400@thehope.co
SUMMARY:台中探索之夜
DESCRIPTION:Everything is about to begin. 一切正要開始 \n我們即將在 4/20 舉辦『台中 Interest Night 探索之夜』，我們熱烈地邀請你來到我們當中，深入瞭解 The Hope 的核心價值，不管你是誰，你都屬於這裡。我們非常歡迎在台中的你，帶著朋友，與我們一起找到歸屬、找到盼望；如果你不在台中，歡迎分享給在台中的親朋好友，邀請他們來參與。 \n我們迫不及待在這天見到你！ \n等不及要和大家在這個屬於我們的夜晚，與大家分享我們期待一起建造的 The Hope 台中 Campus。 \n日期 | 4/20 7:30PM – 9:30PM（7:00PM 開放入場）\n地點 | 台中市西區健行路1049號13樓（金典酒店 13F – 金典廳） \n  \n現在就一同探索和建造
URL:https://thehope.co/event/taichung-interest-night/
LOCATION:金典酒店\, 西區健行路1049號13樓\, 台中市\, 台灣
CATEGORIES:Online
ATTACH;FMTTYPE=image/jpeg:https://thehope.co/wp-content/uploads/2024/03/台中探索之夜-1080X1080.jpg
END:VEVENT
BEGIN:VEVENT
DTSTART;TZID=Asia/Shanghai:20240316T130000
DTEND;TZID=Asia/Shanghai:20240316T170000
DTSTAMP:20260423T080128
CREATED:20230812T084810Z
LAST-MODIFIED:20240223T092803Z
UID:268899-1710594000-1710608400@thehope.co
SUMMARY:男女關係這件事
DESCRIPTION:建立一個「有上帝」的男女以及婚姻關係，和世界一般所定義的男女/婚姻關係有什麼不同呢？ \n邀請您透過這個講座，學習如何進一步擁有更健康、有神同在的交往關係。 \n \n若有任何問題，請來信詢問 grow@thehope.co
URL:https://thehope.co/event/relationshipsworkshop/
LOCATION:The Hope\, 大安區光復南路72巷71號\, 台北市\, 106
CATEGORIES:Taipei Campus
ATTACH;FMTTYPE=image/jpeg:https://thehope.co/wp-content/uploads/2023/08/男女關係-方型-無資訊-1-scaled.jpg
END:VEVENT
BEGIN:VEVENT
DTSTART;TZID=Asia/Shanghai:20231203T170000
DTEND;TZID=Asia/Shanghai:20231203T180000
DTSTAMP:20260423T080128
CREATED:20231124T064430Z
LAST-MODIFIED:20231124T064430Z
UID:269132-1701622800-1701626400@thehope.co
SUMMARY:聖誕點燈
DESCRIPTION:12/3 一起參與聖誕點燈 Christmas Light Up 揭開 2023聖誕節的序幕！
URL:https://thehope.co/event/christmas-light-up/
LOCATION:The Hope\, 大安區光復南路72巷71號\, 台北市\, 106
CATEGORIES:Christmas,Taipei Campus
ATTACH;FMTTYPE=image/png:https://thehope.co/wp-content/uploads/2023/11/ChristmasLightUp_Feeds.png
END:VEVENT
BEGIN:VEVENT
DTSTART;TZID=Asia/Shanghai:20231203T100000
DTEND;TZID=Asia/Shanghai:20231224T170000
DTSTAMP:20260423T080128
CREATED:20231124T064630Z
LAST-MODIFIED:20231124T064651Z
UID:269135-1701597600-1703437200@thehope.co
SUMMARY:聖誕市集
DESCRIPTION:12/3-12/24 每個週日以及 12/23 有好吃、好逛又溫馨的聖誕市集 Christmas Market 陪伴你度過今年的聖誕節！
URL:https://thehope.co/event/christmas-market/
LOCATION:The Hope\, 大安區光復南路72巷71號\, 台北市\, 106
CATEGORIES:Christmas,Taipei Campus
ATTACH;FMTTYPE=image/png:https://thehope.co/wp-content/uploads/2023/11/Christmasmarket_feed.png
END:VEVENT
BEGIN:VEVENT
DTSTART;TZID=Asia/Shanghai:20231202T080000
DTEND;TZID=Asia/Shanghai:20231224T170000
DTSTAMP:20260423T080128
CREATED:20231124T064058Z
LAST-MODIFIED:20231124T064058Z
UID:269129-1701504000-1703437200@thehope.co
SUMMARY:Hope Nation 聖誕系列活動
DESCRIPTION:Hi Hope Nation！無論你在哪裡，在一年的最後，都邀請你一起回到我們的家中，來紀念、感恩 2023 神為我們所做的一切！
URL:https://thehope.co/event/hope-nation-christmas-series-event/
CATEGORIES:Christmas,Online
ATTACH;FMTTYPE=image/jpeg:https://thehope.co/wp-content/uploads/2023/11/Hope-Nation-聖誕系列活動-貼文第一張.jpg
END:VEVENT
BEGIN:VEVENT
DTSTART;TZID=Asia/Shanghai:20231021T100000
DTEND;TZID=Asia/Shanghai:20231125T120000
DTSTAMP:20260423T080128
CREATED:20230513T102607Z
LAST-MODIFIED:20230929T042300Z
UID:268198-1697882400-1700913600@thehope.co
SUMMARY:線上追尋進階
DESCRIPTION:相信只是開始\n讓我們一起踏上這個旅程\n探索神的豐富\n追尋更深的認識
URL:https://thehope.co/event/online-seek-2/
CATEGORIES:Online
ATTACH;FMTTYPE=image/jpeg:https://thehope.co/wp-content/uploads/2022/09/event_class2.jpg
END:VEVENT
BEGIN:VEVENT
DTSTART;TZID=Asia/Shanghai:20230826T100000
DTEND;TZID=Asia/Shanghai:20230826T120000
DTSTAMP:20260423T080128
CREATED:20230812T084218Z
LAST-MODIFIED:20231128T034521Z
UID:268822-1693044000-1693051200@thehope.co
SUMMARY:追尋初階
DESCRIPTION:追尋是一個信仰的基礎課程， 幫助你在認識耶穌的旅程中繼續成長。 不論你是剛接觸這個信仰、剛受洗或在教會很久的朋友， 我們都邀請你來參與。 \n\n8/26\, 9/2\, 9/9\, 9/16 週六 10:00 AM – 12:00 PM 將透過 Zoom 進行課程(中文授課)
URL:https://thehope.co/event/seek-online/
CATEGORIES:Online
ATTACH;FMTTYPE=image/png:https://thehope.co/wp-content/uploads/2022/09/Screenshot-2023-02-17-at-4.11.28-PM.png
END:VEVENT
BEGIN:VEVENT
DTSTART;TZID=UTC:20230805T100000
DTEND;TZID=UTC:20230805T120000
DTSTAMP:20260423T080128
CREATED:20220908T164112Z
LAST-MODIFIED:20231128T035224Z
UID:264718-1691229600-1691236800@thehope.co
SUMMARY:追尋進階
DESCRIPTION:追尋是一個信仰的基礎課程， 幫助你在認識耶穌的旅程中繼續成長。  \n不論你是剛接觸這個信仰、剛受洗或在教會很久的朋友， 我們都邀請你來參與。 \n 本次追尋進階會探討的主題： 神的屬性、三位一體與聖靈、成為門徒和宣教 讓我們在課堂中一起學習、探索及討論， 一起更深認識耶穌和祂的心意！ \n課程時間：8/5\, 8/12\, 8/19\, 8/26 10AM-12PM
URL:https://thehope.co/event/seek2/
LOCATION:The Hope\, 大安區光復南路72巷71號\, 台北市\, 106
CATEGORIES:Taipei Campus
ATTACH;FMTTYPE=image/jpeg:https://thehope.co/wp-content/uploads/2022/09/event_class2.jpg
END:VEVENT
BEGIN:VEVENT
DTSTART;TZID=Asia/Shanghai:20230708T100000
DTEND;TZID=Asia/Shanghai:20230729T120000
DTSTAMP:20260423T080128
CREATED:20230618T020046Z
LAST-MODIFIED:20231128T034647Z
UID:264709-1688810400-1690632000@thehope.co
SUMMARY:追尋
DESCRIPTION:成為基督徒後我是誰？又要如何開始我的生活？歡迎你和朋友一起來到追尋課程初階尋找解答，持續追尋真理。 \n \n 
URL:https://thehope.co/event/seek/
LOCATION:The Hope\, 大安區光復南路72巷71號\, 台北市\, 106
CATEGORIES:Taipei Campus
ATTACH;FMTTYPE=image/jpeg:https://thehope.co/wp-content/uploads/2022/09/chase.jpg
END:VEVENT
BEGIN:VEVENT
DTSTART;TZID=Asia/Shanghai:20230607T190000
DTEND;TZID=Asia/Shanghai:20230607T210000
DTSTAMP:20260423T080128
CREATED:20230527T160039Z
LAST-MODIFIED:20230601T034203Z
UID:268540-1686164400-1686171600@thehope.co
SUMMARY:【Money Problems 錢來找麻煩】理財講座
DESCRIPTION:我們每一個人都會在錢的問題中掙扎，\n除了在這個【Money Problems 錢來找麻煩】系列講道中\n讓我們更多了解聖經中的原則以外，\n我們也特別邀請理財專業 葉小綺 講師，\n來跟我們分享實際如何在生活中管理錢財，不讓錢來找麻煩！\n不論你是剛來到 The Hope 或是在這裡很久的家人，\n我們都邀請你來參與！ \n講師：葉小綺 講師\n地點：將透過 Zoom 進行課程
URL:https://thehope.co/event/%e3%80%90money-problems-%e9%8c%a2%e4%be%86%e6%89%be%e9%ba%bb%e7%85%a9%e3%80%91%e7%90%86%e8%b2%a1%e8%ac%9b%e5%ba%a7-2/
CATEGORIES:Online
ATTACH;FMTTYPE=image/jpeg:https://thehope.co/wp-content/uploads/2023/05/理財講座_正方形顯圖.jpg
END:VEVENT
BEGIN:VEVENT
DTSTART;TZID=Asia/Shanghai:20230401T190000
DTEND;TZID=Asia/Shanghai:20230401T200000
DTSTAMP:20260423T080128
CREATED:20230321T155346Z
LAST-MODIFIED:20230321T155346Z
UID:268055-1680375600-1680379200@thehope.co
SUMMARY:yth night
DESCRIPTION:yth night 是hope yth 的每週六專屬的聚集，如果你是12-18歲的學生，來到這裡跟朋友一起玩，一起大笑，—起更認識耶穌
URL:https://thehope.co/event/yth-night/
LOCATION:The Hope\, 大安區光復南路72巷71號\, 台北市\, 106
CATEGORIES:Taipei Campus
END:VEVENT
END:VCALENDAR