BEGIN:VCALENDAR
VERSION:2.0
PRODID:-//The Hope - ECPv6.15.20//NONSGML v1.0//EN
CALSCALE:GREGORIAN
METHOD:PUBLISH
X-WR-CALNAME:The Hope
X-ORIGINAL-URL:https://thehope.co
X-WR-CALDESC:Events for The Hope
REFRESH-INTERVAL;VALUE=DURATION:PT1H
X-Robots-Tag:noindex
X-PUBLISHED-TTL:PT1H
BEGIN:VTIMEZONE
TZID:UTC
BEGIN:STANDARD
TZOFFSETFROM:+0000
TZOFFSETTO:+0000
TZNAME:UTC
DTSTART:20250101T000000
END:STANDARD
END:VTIMEZONE
BEGIN:VEVENT
DTSTART;TZID=UTC:20260523T103000
DTEND;TZID=UTC:20260523T120000
DTSTAMP:20260421T004417
CREATED:20241107T160036Z
LAST-MODIFIED:20260316T113104Z
UID:264749-1779532200-1779537600@thehope.co
SUMMARY:洗禮
DESCRIPTION:  \n如果你已經決定受洗了，我們在這個月有一場受洗典禮，迫不及待想與你一起慶祝。洗禮是在眾人面前，宣告自己要跟隨耶穌的決定。舊事己過，都變成新的了。 \n \n  \n 
URL:https://thehope.co/event/baptism/
LOCATION:The Hope\, 大安區光復南路72巷71號\, 台北市\, 106
CATEGORIES:Taipei Campus
ATTACH;FMTTYPE=image/png:https://thehope.co/wp-content/uploads/2022/09/baptism_square.png
END:VEVENT
END:VCALENDAR