BEGIN:VCALENDAR
VERSION:2.0
PRODID:-//The Hope - ECPv6.15.20//NONSGML v1.0//EN
CALSCALE:GREGORIAN
METHOD:PUBLISH
X-WR-CALNAME:The Hope
X-ORIGINAL-URL:https://thehope.co
X-WR-CALDESC:Events for The Hope
REFRESH-INTERVAL;VALUE=DURATION:PT1H
X-Robots-Tag:noindex
X-PUBLISHED-TTL:PT1H
BEGIN:VTIMEZONE
TZID:Asia/Shanghai
BEGIN:STANDARD
TZOFFSETFROM:+0800
TZOFFSETTO:+0800
TZNAME:CST
DTSTART:20220101T000000
END:STANDARD
END:VTIMEZONE
BEGIN:VTIMEZONE
TZID:Asia/Taipei
BEGIN:STANDARD
TZOFFSETFROM:+0800
TZOFFSETTO:+0800
TZNAME:CST
DTSTART:20240101T000000
END:STANDARD
END:VTIMEZONE
BEGIN:VTIMEZONE
TZID:America/Denver
BEGIN:DAYLIGHT
TZOFFSETFROM:-0700
TZOFFSETTO:-0600
TZNAME:MDT
DTSTART:20240310T090000
END:DAYLIGHT
BEGIN:STANDARD
TZOFFSETFROM:-0600
TZOFFSETTO:-0700
TZNAME:MST
DTSTART:20241103T080000
END:STANDARD
BEGIN:DAYLIGHT
TZOFFSETFROM:-0700
TZOFFSETTO:-0600
TZNAME:MDT
DTSTART:20250309T090000
END:DAYLIGHT
BEGIN:STANDARD
TZOFFSETFROM:-0600
TZOFFSETTO:-0700
TZNAME:MST
DTSTART:20251102T080000
END:STANDARD
BEGIN:DAYLIGHT
TZOFFSETFROM:-0700
TZOFFSETTO:-0600
TZNAME:MDT
DTSTART:20260308T090000
END:DAYLIGHT
BEGIN:STANDARD
TZOFFSETFROM:-0600
TZOFFSETTO:-0700
TZNAME:MST
DTSTART:20261101T080000
END:STANDARD
END:VTIMEZONE
BEGIN:VEVENT
DTSTART;TZID=Asia/Shanghai:20260412T160000
DTEND;TZID=Asia/Shanghai:20260412T173000
DTSTAMP:20260420T182438
CREATED:20241005T160000Z
LAST-MODIFIED:20260306T094113Z
UID:264614-1776009600-1776015000@thehope.co
SUMMARY:Online BELONG
DESCRIPTION:在 Belong 當中你能認識新朋友，也可以了解如何參與在 Belong 小組中、了解教會文化，現在就來報名吧！
URL:https://thehope.co/event/online-belong/
CATEGORIES:Online
ATTACH;FMTTYPE=image/png:https://thehope.co/wp-content/uploads/2022/09/belong_square-1.png
END:VEVENT
BEGIN:VEVENT
DTSTART;TZID=Asia/Taipei:20260412T143000
DTEND;TZID=Asia/Taipei:20260412T160000
DTSTAMP:20260420T182438
CREATED:20241107T162558Z
LAST-MODIFIED:20260323T013412Z
UID:264721-1776004200-1776009600@thehope.co
SUMMARY:線上洗禮 Online Baptism
DESCRIPTION:不管你來自哪一個城市 \n只要你決定接受耶穌成為你生命的主及個人救主 \n現在就可以報名線上洗禮 \n我們迫不及待跟你一起慶祝
URL:https://thehope.co/event/online-baptism/
CATEGORIES:Online
ATTACH;FMTTYPE=image/png:https://thehope.co/wp-content/uploads/2022/09/baptism_square.png
END:VEVENT
BEGIN:VEVENT
DTSTART;TZID=Asia/Taipei:20260331T193000
DTEND;TZID=Asia/Taipei:20260331T210000
DTSTAMP:20260420T182438
CREATED:20260319T063128Z
LAST-MODIFIED:20260319T080112Z
UID:271232-1774985400-1774990800@thehope.co
SUMMARY:線上一起敬拜
DESCRIPTION:3/31，讓我們在復活節前夕，把心中的懊悔帶到神面前，\n透過敬拜，讓生命再次回轉，走向祂。 \n日期：3／31\n時間：7:30-9PM\n參加方式：Hope Nation Facebook 社團
URL:https://thehope.co/event/%e7%b7%9a%e4%b8%8a%e4%b8%80%e8%b5%b7%e6%95%ac%e6%8b%9c/
CATEGORIES:Online
ATTACH;FMTTYPE=image/png:https://thehope.co/wp-content/uploads/2026/03/一起敬拜_活動圖卡_台中.png
END:VEVENT
BEGIN:VEVENT
DTSTART;TZID=Asia/Shanghai:20260321T100000
DTEND;TZID=Asia/Shanghai:20260328T120000
DTSTAMP:20260420T182438
CREATED:20240104T081540Z
LAST-MODIFIED:20260312T111757Z
UID:269232-1774087200-1774699200@thehope.co
SUMMARY:線上門徒的旅程
DESCRIPTION:THE HOPE 三階段門訓裝備課程\n我們鼓勵每一位 THE HOPE 家人都參與此裝備課程，透過三階段的課程，你將會認識到神是一位怎麼樣的神、我們如何與神建立關係、一個真實跟隨神的門徒會有的生命樣式以及我們如何將影響力帶進我們所在之地，歡迎你一起加入這個旅程。 \n\n課程資訊\n\n\n\n\n\n\n上課日期：3/21\, 3/28\, 4/1\, 4/11\n\n\n上課時間：週六 10AM-12PM\n\n\n上課地點：Online\n\n\n\n\n\n\n報名 \n\nFAQ\n若有任何問題，請來信詢問 equip.online@thehope.co
URL:https://thehope.co/event/ondisciple1/
CATEGORIES:Online
ATTACH;FMTTYPE=image/png:https://thehope.co/wp-content/uploads/2024/01/門徒的旅程_方形.png
END:VEVENT
BEGIN:VEVENT
DTSTART;VALUE=DATE:20260213
DTEND;VALUE=DATE:20260223
DTSTAMP:20260420T182438
CREATED:20260213T025552Z
LAST-MODIFIED:20260213T025711Z
UID:271176-1770940800-1771804799@thehope.co
SUMMARY:春節假期
DESCRIPTION:2/21 大年初五\n台北實體 Hope 主日暫停一次\n邀請你明天一起參與實體 Hope 主日 \n2/21 Fifth Day of Lunar New Year No in-person Hope Experience in Taipei Campus.\nJoin us tomorrow for our Hope Experience in-person. \n2/22\n台北分部 Taipei Campus\n9:30AM | Bilingual\n11:30AM 2PM | 全中文 \n台中分部 Taichung Campus\n9:30AM | Bilingual\n11:30AM | 全中文 \n線上分部 Online Campus\n9:30AM | Bilingual\n11:30AM 2PM | 全中文 \n線上參與 I YOUTUBE.COM/THEHOPETV
URL:https://thehope.co/event/%e6%98%a5%e7%af%80%e5%81%87%e6%9c%9f/
LOCATION:The Hope\, 大安區光復南路72巷71號\, 台北市\, 106
CATEGORIES:Online,Taichung Campus,Taipei Campus
ATTACH;FMTTYPE=image/png:https://thehope.co/wp-content/uploads/2026/02/無週六主日_官網.png
END:VEVENT
BEGIN:VEVENT
DTSTART;TZID=Asia/Shanghai:20260206T193000
DTEND;TZID=Asia/Shanghai:20260206T213000
DTSTAMP:20260420T182438
CREATED:20241130T160054Z
LAST-MODIFIED:20260109T042003Z
UID:268042-1770406200-1770413400@thehope.co
SUMMARY:ECHO
DESCRIPTION:在ECHO 敬拜之夜，我們將一起透過音樂、歌聲敬拜、讚美神，經歷神的同在，迎接聖靈在我們每個人身上的作為！ \nKIDS CARE 報名 : THEHOPE.CO/KIDSCARE\n台中KIDS CARE 報名 : THEHOPE.CO/TCKIDSCARE\n現場敬拜 | The Hope Taipei\n線上參與 I YOUTUBE.COM/THEHOPETV
URL:https://thehope.co/event/echo/
LOCATION:The Hope\, 大安區光復南路72巷71號\, 台北市\, 106
CATEGORIES:Online,Taichung Campus,Taipei Campus
ATTACH;FMTTYPE=image/png:https://thehope.co/wp-content/uploads/2023/02/echo-1.png
END:VEVENT
BEGIN:VEVENT
DTSTART;VALUE=DATE:20260118
DTEND;VALUE=DATE:20260127
DTSTAMP:20260420T182438
CREATED:20250111T160051Z
LAST-MODIFIED:20251219T094306Z
UID:270543-1768694400-1769471999@thehope.co
SUMMARY:遠端服事夥伴招募
DESCRIPTION:在 The Hope 我們相信 “家不是找到的，是我們一起建造的”，透過參與服事，我們不僅建立自己的家、生命被神塑造改變，這也是我們對神的敬拜。不管你在哪裡，你都是屬於我們的一份子，現在就捲起袖子，一起參與建造吧！\n \n現在報名
URL:https://thehope.co/event/%e9%81%a0%e7%ab%af%e6%9c%8d%e4%ba%8b%e5%a4%a5%e4%bc%b4%e6%8b%9b%e5%8b%9f/
CATEGORIES:Online
ATTACH;FMTTYPE=image/jpeg:https://thehope.co/wp-content/uploads/2023/11/web_volunteer-fair.jpg
END:VEVENT
BEGIN:VEVENT
DTSTART;TZID=Asia/Shanghai:20251107T193000
DTEND;TZID=Asia/Shanghai:20251107T210000
DTSTAMP:20260420T182438
CREATED:20241130T160021Z
LAST-MODIFIED:20251103T125654Z
UID:264757-1762543800-1762549200@thehope.co
SUMMARY:Heart & Soul
DESCRIPTION:Heart & Soul 是牧者們深入分享對於教會的心意、願景，建立 DNA 的時間。邀請你一起來了解我們的文化！ \n台北分部 報名孩童照顧 | THEHOPE.CO/KIDSCARE \n台中分部 報名孩童照顧 | THE HOPE TC KIDS CARE
URL:https://thehope.co/event/heartsoul/
LOCATION:The Hope\, 大安區光復南路72巷71號\, 台北市\, 106
CATEGORIES:Online,Taichung Campus,Taipei Campus
ATTACH;FMTTYPE=image/jpeg:https://thehope.co/wp-content/uploads/2022/09/heartnsoul.jpg
END:VEVENT
BEGIN:VEVENT
DTSTART;TZID=Asia/Shanghai:20251101T140000
DTEND;TZID=Asia/Shanghai:20251101T160000
DTSTAMP:20260420T182438
CREATED:20241010T160003Z
LAST-MODIFIED:20251029T114328Z
UID:269032-1762005600-1762012800@thehope.co
SUMMARY:Hope Together @桃園
DESCRIPTION:桃園的 Hope Nation 我們來了！ \n當我們同行在這條信心的道路上，祂將帶來超乎想像的改變——讓你更清楚這趟旅程的方向，也發現你在其中的角色與位置。讓我們一起成為所在城市的盼望，在桃園這座城市發光發熱 🌟 \n現在就趕緊來報名，讓我們一起成為城市的盼望 Let‘s Hope Together！
URL:https://thehope.co/event/hope-together/
LOCATION:經國教室\, 經國路618號 10 樓\, 桃園市桃園區\, Taiwan
CATEGORIES:Online
ATTACH;FMTTYPE=image/jpeg:https://thehope.co/wp-content/uploads/2024/10/HOPE-TOGETHER-桃園-1080-1.jpg
END:VEVENT
BEGIN:VEVENT
DTSTART;TZID=America/Denver:20250927T140000
DTEND;TZID=America/Denver:20250927T160000
DTSTAMP:20260420T182438
CREATED:20250825T150552Z
LAST-MODIFIED:20250825T150906Z
UID:270885-1758981600-1758988800@thehope.co
SUMMARY:Coffee with The Hope ＠美國加州洛杉磯
DESCRIPTION:我們要去美國啦 🇺🇸 不管你現在在美國還是加拿大，邀請你來參加 Coffee with The Hope ft. Ps Peter！\n\n\n \n\n\n這一天，Pastor Peter 和 Pastor Sasa 將分享 The Hope Online Campus 的使命與異象，也會現場回答你對信仰、生活，甚至對 The Hope 與線上分部的各種疑問。\n\n\n \n\n\n不論你在哪個信仰階段、經歷過什麼故事，這裡都歡迎你。我們期待能更多認識你，並且陪伴你，一起走在跟隨耶穌的旅程上
URL:https://thehope.co/event/coffee-with-the-hope-%ef%bc%a0%e7%be%8e%e5%9c%8b%e5%8a%a0%e5%b7%9e%e6%b4%9b%e6%9d%89%e7%a3%af/
LOCATION:Temple City Immanuel Church of the Nazarene\, 9953 Las Tunas Dr\, Temple City\, CA\, 91780\, United States
CATEGORIES:Online
ATTACH;FMTTYPE=image/png:https://thehope.co/wp-content/uploads/2025/08/coffeewiththehope_website.png
END:VEVENT
BEGIN:VEVENT
DTSTART;VALUE=DATE:20250823
DTEND;VALUE=DATE:20250825
DTSTAMP:20260420T182438
CREATED:20250808T030307Z
LAST-MODIFIED:20250808T040530Z
UID:270863-1755907200-1756079999@thehope.co
SUMMARY:THE HOPE BIRTHDAY
DESCRIPTION:The Hope 六週年！無論你是怎樣踏進 The Hope，或是從哪一刻開始覺得這是你的教會，這裡都是我們一起打造的家。謝謝你在這段旅程的同行，也讓我們一起歡慶這份屬於我們的回憶故事！ \nTaipei  \n星期六 中文 | 4PM \n星期天 BILINGUAL | 9:30AM \n中文 | 11:30AM  2:00PM \n  \nOnline \nBILINGUAL | 9:30AM \n中文 | 11:30AM  2:00PM \n線上參與 I YOUTUBE.COM/THEHOPETV \n  \nTaichung \nBILINGUAL | 9:30AM \n中文 | 11:30AM
URL:https://thehope.co/event/the-hope-6th-birthday/
CATEGORIES:Online,Taichung Campus,Taipei Campus
ATTACH;FMTTYPE=image/png:https://thehope.co/wp-content/uploads/2025/08/6週年_square.png
END:VEVENT
BEGIN:VEVENT
DTSTART;VALUE=DATE:20250817
DTEND;VALUE=DATE:20250908
DTSTAMP:20260420T182438
CREATED:20250814T091945Z
LAST-MODIFIED:20250814T091945Z
UID:270874-1755388800-1757289599@thehope.co
SUMMARY:一起聊一夏
DESCRIPTION:這個夏天，我們為 Hope Nation 預備的空間，讓彼此能有更多的連結，分享生命、彼此關懷。 \n從8/17起，連續四週Hope Experience後，我們在ZOOM等你上線聊一夏 \n聊天連結： 一起聊一夏
URL:https://thehope.co/event/%e4%b8%80%e8%b5%b7%e8%81%8a%e4%b8%80%e5%a4%8f/
CATEGORIES:Online
ATTACH;FMTTYPE=image/jpeg:https://thehope.co/wp-content/uploads/2025/08/10801080_rgb_20250810.jpg
END:VEVENT
BEGIN:VEVENT
DTSTART;TZID=Asia/Shanghai:20250607T140000
DTEND;TZID=Asia/Shanghai:20250607T170000
DTSTAMP:20260420T182438
CREATED:20250301T160055Z
LAST-MODIFIED:20250518T101237Z
UID:270562-1749304800-1749315600@thehope.co
SUMMARY:Hope Together @宜蘭
DESCRIPTION:宜蘭的 Hope Nation 我們來了！ \n這是一個聚集所有宜蘭 Hope Nation 的活動，我們會一起敬拜、透過輕鬆有趣的活動彼此交流分享；期待能幫助你與其他 Hope Nation 有更多的連結，找到所在之地一起成長的夥伴，也更多認識 Online Campus 拓展的使命和意象，在跟隨神的路上，我們一起同行！ \n現在就趕緊來報名，讓我們一起成為城市的盼望 Let‘s Hope Together！
URL:https://thehope.co/event/hope-together-%e5%8f%b0%e5%8d%97/
LOCATION:對的咖啡遊學工廠\, 東港路一段247號\, 宜蘭市\, Taiwan
CATEGORIES:Online
ATTACH;FMTTYPE=image/png:https://thehope.co/wp-content/uploads/2025/03/HOPE-TOGETHER-宜蘭-1080.png
END:VEVENT
BEGIN:VEVENT
DTSTART;TZID=Asia/Shanghai:20250517T100000
DTEND;TZID=Asia/Shanghai:20250517T120000
DTSTAMP:20260420T182438
CREATED:20230527T160058Z
LAST-MODIFIED:20250513T041213Z
UID:268536-1747476000-1747483200@thehope.co
SUMMARY:【好好理財】理財課程
DESCRIPTION:在《打造財務夢想屋》系列的講道之後，你可能會問：「我該如何實際開始忠心地管理自己的財務？又如何才能學會慷慨地奉獻與給予？」 \n邀請你參加這次的理財課程，我們將一同學習如何以神的智慧管理財務，邁向穩健且健康的財務未來，並成為一位樂意給予、祝福他人的人。 \n報名臺北實體 \n報名臺中實體 \n報名線上\n＊全中文授課
URL:https://thehope.co/event/eequipfinance/
CATEGORIES:Online,Taichung Campus,Taipei Campus
ATTACH;FMTTYPE=image/png:https://thehope.co/wp-content/uploads/2023/05/理財講座_1080_1080.png
END:VEVENT
BEGIN:VEVENT
DTSTART;VALUE=DATE:20250420
DTEND;VALUE=DATE:20250421
DTSTAMP:20260420T182438
CREATED:20250415T191734Z
LAST-MODIFIED:20250415T191734Z
UID:270744-1745107200-1745193599@thehope.co
SUMMARY:Easter 復活節主日
DESCRIPTION:復活節即將到來！你或許聽過「最後的晚餐」，但你知道嗎？在那一夜裡，耶穌有個約定是與你我有關。當我們更深認識聖餐的意義，我們不只是會記念和慶祝，更是親身經歷耶穌復活帶來的新生命，並感受到祂真實的同在！邀請你在 4/20 帶著你的朋友與我們一同參加復活節主日！ \n4/20 Easter Sunday📍The Hope 台北分部9:30AM 11:30AM • Bilingual2PM 4PM • 全中文🧸Hope Kids • 9:30AM 11:30AM📍The Hope 台中分部9:30AM 11:30AM • Bilingual🧸Hope Kids • 9:30AM📍The Hope 線上分部9:30AM 11:30AM • Bilingual2PM 4PM • 全中文📲 youtube.com/thehopetv \n 
URL:https://thehope.co/event/easter-%e5%be%a9%e6%b4%bb%e7%af%80%e4%b8%bb%e6%97%a5/
LOCATION:The Hope\, 大安區光復南路72巷71號\, 台北市\, 106
CATEGORIES:Online,Taichung Campus,Taipei Campus
ATTACH;FMTTYPE=image/png:https://thehope.co/wp-content/uploads/2025/04/easter2025.png
END:VEVENT
BEGIN:VEVENT
DTSTART;TZID=Asia/Shanghai:20241019T100000
DTEND;TZID=Asia/Shanghai:20241019T120000
DTSTAMP:20260420T182438
CREATED:20241001T160035Z
LAST-MODIFIED:20241002T123514Z
UID:269454-1729332000-1729339200@thehope.co
SUMMARY:Online 《男女關係這件事》戀愛講座
DESCRIPTION:Online 《男女關係這件事》戀愛講座～來囉！！！\n想知道在進入關係前該如何預備自己？\n如何建立健康的自我價值及戀愛關係\n男女關係這件事總是有滿滿的問號？\n讓我們一起在這堂課中解開疑惑吧！
URL:https://thehope.co/event/online-relationship-course/
CATEGORIES:Online
ATTACH;FMTTYPE=image/jpeg:https://thehope.co/wp-content/uploads/2023/08/男女關係-方型-無資訊-1-scaled.jpg
END:VEVENT
BEGIN:VEVENT
DTSTART;TZID=Asia/Shanghai:20240915T133000
DTEND;TZID=Asia/Shanghai:20240915T163000
DTSTAMP:20260420T182438
CREATED:20240609T004017Z
LAST-MODIFIED:20240804T005615Z
UID:269436-1726407000-1726417800@thehope.co
SUMMARY:Hope Together @馬來西亞
DESCRIPTION:Hope Together 海外第一站 – 馬來西亞\n\n\n\n\nThe Hope 即將在 9/15 去到吉隆坡舉辦 Hope Together！\n\n\n期待與在星馬的你見面！ \n這一天，我們會一起敬拜，Pastor Peter 和 Pastor Sasa 也會與我們分享，The Hope Online Campus 發展的使命和異象，並回答你的各種疑難雜症！ \n我們非常期待能更多認識你，並幫助你與其他 Hope Nation 有更多的連結，在跟隨耶穌的路上，我們彼此同行！現在就來報名，讓我們一起成為城市的盼望 Let’s Hope Together！
URL:https://thehope.co/event/hope-together-kl/
LOCATION:3\, Jalan SS 13/4\, Subang Jaya Industrial Estate\, 47500 Subang Jaya\, Selangor\, Malaysia\, Malaysia
CATEGORIES:Online
ATTACH;FMTTYPE=image/png:https://thehope.co/wp-content/uploads/2024/06/HOPE-TOGETHER-馬來西亞-1080.png
END:VEVENT
BEGIN:VEVENT
DTSTART;VALUE=DATE:20240908
DTEND;VALUE=DATE:20240930
DTSTAMP:20260420T182438
CREATED:20230708T141613Z
LAST-MODIFIED:20240915T075410Z
UID:268853-1725753600-1727654399@thehope.co
SUMMARY:Hope Week  #我有盼望我捐血
DESCRIPTION:每年夏天，我們都會號召 The Hope 的家人一起參與在捐血活動中，而如果你有關注的話，最近正好是台灣血庫非常缺血的時刻。\n邀請The Hope 的家人，我們一同捲起袖子，透過實際的行動，與我們所在的城市連結，去祝福和回應我們城市的需要！ \n\n我們特別準備了精美的「熱血感恩小禮」希望可以送給你！完成此問卷回覆即可免費獲得，謝謝你響應我有盼望我捐血！\n捐血完成填寫表單：thehope.co/hopeweek\n\n\n\n\n\n邀請大家先確認捐血資訊後再出發，避免白跑一趟喔！\n\n\n立即點擊 → 臺灣哪裡可以捐血\n\n 
URL:https://thehope.co/event/hope-week-blood-donation/
CATEGORIES:Online,Taipei Campus
ATTACH;FMTTYPE=image/jpeg:https://thehope.co/wp-content/uploads/2023/07/2021我有盼望我捐血2.jpg
END:VEVENT
BEGIN:VEVENT
DTSTART;TZID=Asia/Shanghai:20240420T193000
DTEND;TZID=Asia/Shanghai:20240420T193000
DTSTAMP:20260420T182438
CREATED:20240316T031330Z
LAST-MODIFIED:20240316T070734Z
UID:269376-1713641400-1713641400@thehope.co
SUMMARY:台中探索之夜
DESCRIPTION:Everything is about to begin. 一切正要開始 \n我們即將在 4/20 舉辦『台中 Interest Night 探索之夜』，我們熱烈地邀請你來到我們當中，深入瞭解 The Hope 的核心價值，不管你是誰，你都屬於這裡。我們非常歡迎在台中的你，帶著朋友，與我們一起找到歸屬、找到盼望；如果你不在台中，歡迎分享給在台中的親朋好友，邀請他們來參與。 \n我們迫不及待在這天見到你！ \n等不及要和大家在這個屬於我們的夜晚，與大家分享我們期待一起建造的 The Hope 台中 Campus。 \n日期 | 4/20 7:30PM – 9:30PM（7:00PM 開放入場）\n地點 | 台中市西區健行路1049號13樓（金典酒店 13F – 金典廳） \n  \n現在就一同探索和建造
URL:https://thehope.co/event/taichung-interest-night/
LOCATION:金典酒店\, 西區健行路1049號13樓\, 台中市\, 台灣
CATEGORIES:Online
ATTACH;FMTTYPE=image/jpeg:https://thehope.co/wp-content/uploads/2024/03/台中探索之夜-1080X1080.jpg
END:VEVENT
BEGIN:VEVENT
DTSTART;TZID=Asia/Shanghai:20231202T080000
DTEND;TZID=Asia/Shanghai:20231224T170000
DTSTAMP:20260420T182438
CREATED:20231124T064058Z
LAST-MODIFIED:20231124T064058Z
UID:269129-1701504000-1703437200@thehope.co
SUMMARY:Hope Nation 聖誕系列活動
DESCRIPTION:Hi Hope Nation！無論你在哪裡，在一年的最後，都邀請你一起回到我們的家中，來紀念、感恩 2023 神為我們所做的一切！
URL:https://thehope.co/event/hope-nation-christmas-series-event/
CATEGORIES:Christmas,Online
ATTACH;FMTTYPE=image/jpeg:https://thehope.co/wp-content/uploads/2023/11/Hope-Nation-聖誕系列活動-貼文第一張.jpg
END:VEVENT
BEGIN:VEVENT
DTSTART;TZID=Asia/Shanghai:20231021T100000
DTEND;TZID=Asia/Shanghai:20231125T120000
DTSTAMP:20260420T182438
CREATED:20230513T102607Z
LAST-MODIFIED:20230929T042300Z
UID:268198-1697882400-1700913600@thehope.co
SUMMARY:線上追尋進階
DESCRIPTION:相信只是開始\n讓我們一起踏上這個旅程\n探索神的豐富\n追尋更深的認識
URL:https://thehope.co/event/online-seek-2/
CATEGORIES:Online
ATTACH;FMTTYPE=image/jpeg:https://thehope.co/wp-content/uploads/2022/09/event_class2.jpg
END:VEVENT
BEGIN:VEVENT
DTSTART;TZID=Asia/Shanghai:20230826T100000
DTEND;TZID=Asia/Shanghai:20230826T120000
DTSTAMP:20260420T182438
CREATED:20230812T084218Z
LAST-MODIFIED:20231128T034521Z
UID:268822-1693044000-1693051200@thehope.co
SUMMARY:追尋初階
DESCRIPTION:追尋是一個信仰的基礎課程， 幫助你在認識耶穌的旅程中繼續成長。 不論你是剛接觸這個信仰、剛受洗或在教會很久的朋友， 我們都邀請你來參與。 \n\n8/26\, 9/2\, 9/9\, 9/16 週六 10:00 AM – 12:00 PM 將透過 Zoom 進行課程(中文授課)
URL:https://thehope.co/event/seek-online/
CATEGORIES:Online
ATTACH;FMTTYPE=image/png:https://thehope.co/wp-content/uploads/2022/09/Screenshot-2023-02-17-at-4.11.28-PM.png
END:VEVENT
BEGIN:VEVENT
DTSTART;TZID=Asia/Shanghai:20230607T190000
DTEND;TZID=Asia/Shanghai:20230607T210000
DTSTAMP:20260420T182438
CREATED:20230527T160039Z
LAST-MODIFIED:20230601T034203Z
UID:268540-1686164400-1686171600@thehope.co
SUMMARY:【Money Problems 錢來找麻煩】理財講座
DESCRIPTION:我們每一個人都會在錢的問題中掙扎，\n除了在這個【Money Problems 錢來找麻煩】系列講道中\n讓我們更多了解聖經中的原則以外，\n我們也特別邀請理財專業 葉小綺 講師，\n來跟我們分享實際如何在生活中管理錢財，不讓錢來找麻煩！\n不論你是剛來到 The Hope 或是在這裡很久的家人，\n我們都邀請你來參與！ \n講師：葉小綺 講師\n地點：將透過 Zoom 進行課程
URL:https://thehope.co/event/%e3%80%90money-problems-%e9%8c%a2%e4%be%86%e6%89%be%e9%ba%bb%e7%85%a9%e3%80%91%e7%90%86%e8%b2%a1%e8%ac%9b%e5%ba%a7-2/
CATEGORIES:Online
ATTACH;FMTTYPE=image/jpeg:https://thehope.co/wp-content/uploads/2023/05/理財講座_正方形顯圖.jpg
END:VEVENT
END:VCALENDAR